BEGIN:VCALENDAR
PRODID:-//Google Inc//Google Calendar 70.9054//EN
VERSION:2.0
CALSCALE:GREGORIAN
METHOD:PUBLISH
X-WR-CALNAME:LRM Termine 2026 
X-WR-TIMEZONE:Europe/Zurich
X-WR-CALDESC:Alle Termine und Trainings im Jahr 2026
BEGIN:VTIMEZONE
TZID:Europe/Zurich
X-LIC-LOCATION:Europe/Zurich
BEGIN:DAYLIGHT
TZOFFSETFROM:+0100
TZOFFSETTO:+0200
TZNAME:GMT+2
DTSTART:19700329T020000
RRULE:FREQ=YEARLY;BYMONTH=3;BYDAY=-1SU
END:DAYLIGHT
BEGIN:STANDARD
TZOFFSETFROM:+0200
TZOFFSETTO:+0100
TZNAME:GMT+1
DTSTART:19701025T030000
RRULE:FREQ=YEARLY;BYMONTH=10;BYDAY=-1SU
END:STANDARD
END:VTIMEZONE
BEGIN:VEVENT
DTSTART:20260402T170000Z
DTEND:20260402T195000Z
DTSTAMP:20260331T102257Z
UID:6brknrikpucrql1se3n1l295aa@google.com
CREATED:20260331T092630Z
LAST-MODIFIED:20260331T092630Z
SEQUENCE:0
STATUS:CONFIRMED
SUMMARY:LR: Trainingsessen (Rest. Krone)
TRANSP:OPAQUE
END:VEVENT
BEGIN:VEVENT
DTSTART;VALUE=DATE:20260530
DTEND;VALUE=DATE:20260531
DTSTAMP:20260331T102257Z
UID:0p2m85pen0l5o73j054ig34tah@google.com
CREATED:20260331T093449Z
LAST-MODIFIED:20260331T094545Z
SEQUENCE:0
STATUS:CONFIRMED
SUMMARY:LR Lauf: Biberlauf LC Uzwil
TRANSP:TRANSPARENT
END:VEVENT
BEGIN:VEVENT
DTSTART;VALUE=DATE:20260926
DTEND;VALUE=DATE:20260927
DTSTAMP:20260331T102257Z
UID:2lp6vq6afofjea1lpao2fbplf8@google.com
CREATED:20260331T094034Z
LAST-MODIFIED:20260331T094035Z
SEQUENCE:0
STATUS:CONFIRMED
SUMMARY:LR Lauf: Panoramalauf Bachtel
TRANSP:TRANSPARENT
END:VEVENT
BEGIN:VEVENT
DTSTART;VALUE=DATE:20260829
DTEND;VALUE=DATE:20260830
DTSTAMP:20260331T102257Z
UID:3lp59qp2s6afaslcbg9gfdnm15@google.com
CREATED:20260331T093952Z
LAST-MODIFIED:20260331T093952Z
SEQUENCE:0
STATUS:CONFIRMED
SUMMARY:LR Lauf: Schauenberglauf Elgg
TRANSP:TRANSPARENT
END:VEVENT
BEGIN:VEVENT
DTSTART;VALUE=DATE:20260730
DTEND;VALUE=DATE:20260731
DTSTAMP:20260331T102257Z
UID:72kvu2n0qpit1js4vnegqdbek0@google.com
CREATED:20260331T095352Z
LAST-MODIFIED:20260331T095353Z
SEQUENCE:0
STATUS:CONFIRMED
SUMMARY:LR: Alternatives Sommertraining Kreuzegg
TRANSP:TRANSPARENT
END:VEVENT
BEGIN:VEVENT
DTSTART:20260919T160000Z
DTEND:20260919T195000Z
DTSTAMP:20260331T102257Z
UID:7hhmthmcbh739evbdg87s8pilf@google.com
CREATED:20260331T095723Z
LAST-MODIFIED:20260331T095723Z
SEQUENCE:0
STATUS:CONFIRMED
SUMMARY:LR: SPT-Helferhöck (Rest. Hirschen)
TRANSP:OPAQUE
END:VEVENT
BEGIN:VEVENT
DTSTART:20260625T180000Z
DTEND:20260625T190000Z
DTSTAMP:20260331T102257Z
UID:7rn3sc88mbjgr9s3ljravemapj@google.com
CREATED:20260331T100851Z
LAST-MODIFIED:20260331T100852Z
SEQUENCE:0
STATUS:CONFIRMED
SUMMARY:LR Lauf: Berglauf Buechrüti (VM)
TRANSP:OPAQUE
END:VEVENT
BEGIN:VEVENT
DTSTART;VALUE=DATE:20260620
DTEND;VALUE=DATE:20260621
DTSTAMP:20260331T102257Z
UID:7g3nif1k3teq769i5v7e38h96k@google.com
CREATED:20260331T093628Z
LAST-MODIFIED:20260331T093628Z
SEQUENCE:0
STATUS:CONFIRMED
SUMMARY:LR Lauf: Hörnli Trail 1133
TRANSP:TRANSPARENT
END:VEVENT
BEGIN:VEVENT
DTSTART;VALUE=DATE:20261231
DTEND;VALUE=DATE:20270101
DTSTAMP:20260331T102257Z
UID:3308l87g21uiopudrsamsp54uj@google.com
CREATED:20260331T102030Z
LAST-MODIFIED:20260331T102030Z
SEQUENCE:0
STATUS:CONFIRMED
SUMMARY:LR: Silvestertraining (Radsporthalle)
TRANSP:TRANSPARENT
END:VEVENT
BEGIN:VEVENT
DTSTART;VALUE=DATE:20260404
DTEND;VALUE=DATE:20260405
DTSTAMP:20260331T102257Z
UID:6flgk3ocqalf6kd42s6brf853l@google.com
CREATED:20260331T092910Z
LAST-MODIFIED:20260331T094506Z
SEQUENCE:0
STATUS:CONFIRMED
SUMMARY:LR Lauf: Osterlauf Eiken
TRANSP:TRANSPARENT
END:VEVENT
BEGIN:VEVENT
DTSTART;VALUE=DATE:20260918
DTEND;VALUE=DATE:20260920
DTSTAMP:20260331T102257Z
UID:36hu4qmm3odh0fooebhnj147d1@google.com
CREATED:20260331T095614Z
LAST-MODIFIED:20260331T095615Z
SEQUENCE:0
STATUS:CONFIRMED
SUMMARY:LR: Schnebelhorn-Panoramatrail (SPT)
TRANSP:TRANSPARENT
END:VEVENT
BEGIN:VEVENT
DTSTART;VALUE=DATE:20261107
DTEND;VALUE=DATE:20261108
DTSTAMP:20260331T102257Z
UID:7drkegbbme57efd5mfauddk59h@google.com
CREATED:20260331T095807Z
LAST-MODIFIED:20260331T095807Z
SEQUENCE:0
STATUS:CONFIRMED
SUMMARY:LR: Kegelabend
TRANSP:TRANSPARENT
END:VEVENT
BEGIN:VEVENT
DTSTART;VALUE=DATE:20260402
DTEND;VALUE=DATE:20260403
DTSTAMP:20260331T102257Z
UID:4ttdgl7kbv73vtbs2d8qs31td4@google.com
CREATED:20260331T094723Z
LAST-MODIFIED:20260331T094728Z
SEQUENCE:1
STATUS:CONFIRMED
SUMMARY:LR: Trainingsessen (Rest. Krone)
TRANSP:OPAQUE
END:VEVENT
BEGIN:VEVENT
DTSTART;VALUE=DATE:20260321
DTEND;VALUE=DATE:20260322
DTSTAMP:20260331T102257Z
UID:3ci6hmq4beatget89ii2qot0ii@google.com
CREATED:20260331T092825Z
LAST-MODIFIED:20260331T094456Z
SEQUENCE:0
STATUS:CONFIRMED
SUMMARY:LR Lauf: Runningday Eschenbach
TRANSP:TRANSPARENT
END:VEVENT
BEGIN:VEVENT
DTSTART:20260827T180000Z
DTEND:20260827T195000Z
DTSTAMP:20260331T102257Z
UID:6o8jkatklasupa64lfg95p5p4e@google.com
CREATED:20260331T100954Z
LAST-MODIFIED:20260331T100954Z
SEQUENCE:0
STATUS:CONFIRMED
SUMMARY:LR Lauf: Mittellange Distanz (VM)
TRANSP:OPAQUE
END:VEVENT
BEGIN:VEVENT
DTSTART;VALUE=DATE:20260712
DTEND;VALUE=DATE:20260713
DTSTAMP:20260331T102257Z
UID:74fa2rfg1gdu7vab0uobbphrgm@google.com
CREATED:20260331T093806Z
LAST-MODIFIED:20260331T093815Z
SEQUENCE:0
STATUS:CONFIRMED
SUMMARY:LR Lauf: Vogellisi Berglauf Adelboden
TRANSP:TRANSPARENT
END:VEVENT
BEGIN:VEVENT
DTSTART;VALUE=DATE:20260117
DTEND;VALUE=DATE:20260118
DTSTAMP:20260331T102257Z
UID:30dnvqr7v2pivm6c58nssba3fq@google.com
CREATED:20260331T092308Z
LAST-MODIFIED:20260331T100847Z
SEQUENCE:1
STATUS:CONFIRMED
SUMMARY:LR: Lottomatch 2026 (Rest. Pöstli)
TRANSP:OPAQUE
END:VEVENT
BEGIN:VEVENT
DTSTART;VALUE=DATE:20260314
DTEND;VALUE=DATE:20260315
DTSTAMP:20260331T102257Z
UID:0s4cj8dvpps62a92cdu477d7lv@google.com
CREATED:20260331T092732Z
LAST-MODIFIED:20260331T094449Z
SEQUENCE:0
STATUS:CONFIRMED
SUMMARY:LR Lauf: Huebner Frühlingslauf
TRANSP:TRANSPARENT
END:VEVENT
BEGIN:VEVENT
DTSTART;VALUE=DATE:20260502
DTEND;VALUE=DATE:20260503
DTSTAMP:20260331T102257Z
UID:7ppumdc8s9eemb837dg7v1b005@google.com
CREATED:20260331T094820Z
LAST-MODIFIED:20260331T094820Z
SEQUENCE:0
STATUS:CONFIRMED
SUMMARY:LR: Hulftegg-Stafette Mühlrüti
TRANSP:TRANSPARENT
END:VEVENT
BEGIN:VEVENT
DTSTART:20260625T190000Z
DTEND:20260625T205000Z
DTSTAMP:20260331T102257Z
UID:45lk4hu1m4g64qja0cd9svbovr@google.com
CREATED:20260331T095156Z
LAST-MODIFIED:20260331T100852Z
SEQUENCE:0
STATUS:CONFIRMED
SUMMARY:LR: Grillplausch nach dem Berglauf
TRANSP:OPAQUE
END:VEVENT
BEGIN:VEVENT
DTSTART;VALUE=DATE:20260221
DTEND;VALUE=DATE:20260222
DTSTAMP:20260331T102257Z
UID:2968ntec9p7gr3uflr1uep3hfm@google.com
CREATED:20260331T092436Z
LAST-MODIFIED:20260331T100847Z
SEQUENCE:1
STATUS:CONFIRMED
SUMMARY:LR: 67. Hauptversammlung LR Mosnang (Rest. Krone)
TRANSP:OPAQUE
END:VEVENT
BEGIN:VEVENT
DTSTART;VALUE=DATE:20260915
DTEND;VALUE=DATE:20260916
DTSTAMP:20260331T102257Z
UID:1qd0rbngu89bbkq9s1bsjgb87o@google.com
CREATED:20260331T095449Z
LAST-MODIFIED:20260331T095516Z
SEQUENCE:1
STATUS:CONFIRMED
SUMMARY:LR: Offizielles SPT-Schülertraining
TRANSP:TRANSPARENT
END:VEVENT
BEGIN:VEVENT
DTSTART;VALUE=DATE:20261205
DTEND;VALUE=DATE:20261206
DTSTAMP:20260331T102257Z
UID:7tqpjv9c0h6mll871ja9acttbe@google.com
CREATED:20260331T095838Z
LAST-MODIFIED:20260331T095838Z
SEQUENCE:0
STATUS:CONFIRMED
SUMMARY:LR: Chlausabend
TRANSP:TRANSPARENT
END:VEVENT
BEGIN:VEVENT
DTSTART;VALUE=DATE:20260429
DTEND;VALUE=DATE:20260430
DTSTAMP:20260331T102257Z
UID:4koal7ouod3trvfd232vr0eou4@google.com
CREATED:20260331T093032Z
LAST-MODIFIED:20260331T094523Z
SEQUENCE:1
STATUS:CONFIRMED
SUMMARY:LR Lauf: Wiler Waldlauf
TRANSP:OPAQUE
END:VEVENT
BEGIN:VEVENT
DTSTART;VALUE=DATE:20260607
DTEND;VALUE=DATE:20260608
DTSTAMP:20260331T102257Z
UID:0t5e8go3evlfjn7jsfq7fr63m3@google.com
CREATED:20260331T094902Z
LAST-MODIFIED:20260331T094902Z
SEQUENCE:0
STATUS:CONFIRMED
SUMMARY:LR: SPT on Tour
TRANSP:TRANSPARENT
END:VEVENT
BEGIN:VEVENT
DTSTART;VALUE=DATE:20260605
DTEND;VALUE=DATE:20260606
DTSTAMP:20260331T102257Z
UID:26dtcnk6m14p5ehkulvf9e94p6@google.com
CREATED:20260331T093526Z
LAST-MODIFIED:20260331T094552Z
SEQUENCE:0
STATUS:CONFIRMED
SUMMARY:LR Lauf: Wigoltinger Abendlauf
TRANSP:TRANSPARENT
END:VEVENT
BEGIN:VEVENT
DTSTART;VALUE=DATE:20261031
DTEND;VALUE=DATE:20261101
DTSTAMP:20260331T102257Z
UID:70f81skgdhosjrarebu9p3fn3f@google.com
CREATED:20260331T094226Z
LAST-MODIFIED:20260331T094226Z
SEQUENCE:0
STATUS:CONFIRMED
SUMMARY:LR Lauf: Wiler Herbstlauf
TRANSP:TRANSPARENT
END:VEVENT
BEGIN:VEVENT
DTSTART;TZID=Europe/Zurich:20260108T200000
DTEND;TZID=Europe/Zurich:20260108T210000
RRULE:FREQ=WEEKLY;WKST=MO;UNTIL=20261217T225959Z;BYDAY=TH
EXDATE;TZID=Europe/Zurich:20260402T200000
EXDATE;TZID=Europe/Zurich:20260409T200000
EXDATE;TZID=Europe/Zurich:20260528T200000
EXDATE;TZID=Europe/Zurich:20260625T200000
EXDATE;TZID=Europe/Zurich:20260723T200000
EXDATE;TZID=Europe/Zurich:20260730T200000
EXDATE;TZID=Europe/Zurich:20260827T200000
EXDATE;TZID=Europe/Zurich:20261112T200000
DTSTAMP:20260331T102257Z
UID:6dtbkacmhdho0kb72qegna1vok@google.com
CREATED:20260331T092140Z
LAST-MODIFIED:20260331T102140Z
LOCATION:Primarschule Mosnang\, Unterdorf 14\, 9607 Mosnang\, Schweiz
SEQUENCE:0
STATUS:CONFIRMED
SUMMARY:LR: Training
TRANSP:OPAQUE
END:VEVENT
BEGIN:VEVENT
DTSTART;VALUE=DATE:20260927
DTEND;VALUE=DATE:20260928
DTSTAMP:20260331T102257Z
UID:1m3t26v8o9tuaevudrubal3dsa@google.com
CREATED:20260331T094121Z
LAST-MODIFIED:20260331T094121Z
SEQUENCE:0
STATUS:CONFIRMED
SUMMARY:LR Lauf: Chäserrugg Berglauf
TRANSP:TRANSPARENT
END:VEVENT
BEGIN:VEVENT
DTSTART:20260528T180000Z
DTEND:20260528T200000Z
DTSTAMP:20260331T102257Z
UID:2qu1r8job0c7ldhblrura8gl24@google.com
CREATED:20260331T100849Z
LAST-MODIFIED:20260331T100852Z
SEQUENCE:0
STATUS:CONFIRMED
SUMMARY:LR Lauf: Lange Distanz Lauf (VM)
TRANSP:OPAQUE
END:VEVENT
BEGIN:VEVENT
DTSTART;VALUE=DATE:20261230
DTEND;VALUE=DATE:20261231
DTSTAMP:20260331T102257Z
UID:6ui3b6ga8lda9n061vv3qmqcv2@google.com
CREATED:20260331T094324Z
LAST-MODIFIED:20260331T094324Z
SEQUENCE:0
STATUS:CONFIRMED
SUMMARY:LR Lauf: Silvesterlauf Eschlikon
TRANSP:TRANSPARENT
END:VEVENT
BEGIN:VEVENT
DTSTART;VALUE=DATE:20260411
DTEND;VALUE=DATE:20260412
DTSTAMP:20260331T102257Z
UID:34b8b9bqlcoirktllquhdoj0rt@google.com
CREATED:20260331T092948Z
LAST-MODIFIED:20260331T094514Z
SEQUENCE:0
STATUS:CONFIRMED
SUMMARY:LR Lauf: Bündner Frühlingslauf
TRANSP:TRANSPARENT
END:VEVENT
BEGIN:VEVENT
DTSTART;VALUE=DATE:20270220
DTEND;VALUE=DATE:20270221
DTSTAMP:20260331T102257Z
UID:526kmeen1c85rgul1f346pquhi@google.com
CREATED:20260331T100846Z
LAST-MODIFIED:20260331T100847Z
SEQUENCE:0
STATUS:CONFIRMED
SUMMARY:LR: 68. Hauptversammlung LR Mosnang (Rest. Krone)
TRANSP:TRANSPARENT
END:VEVENT
BEGIN:VEVENT
DTSTART;VALUE=DATE:20260723
DTEND;VALUE=DATE:20260724
DTSTAMP:20260331T102257Z
UID:00b2kt11073tlc4a4c762838b5@google.com
CREATED:20260331T095316Z
LAST-MODIFIED:20260331T095316Z
SEQUENCE:0
STATUS:CONFIRMED
SUMMARY:LR: Alternatives Sommertraining - Badi Lütisburg
TRANSP:TRANSPARENT
END:VEVENT
BEGIN:VEVENT
DTSTART;VALUE=DATE:20270123
DTEND;VALUE=DATE:20270124
DTSTAMP:20260331T102257Z
UID:1q63fg57fg0trdbgtaetaeu9bn@google.com
CREATED:20260331T100846Z
LAST-MODIFIED:20260331T100846Z
SEQUENCE:0
STATUS:CONFIRMED
SUMMARY:LR: Lottomatch 2027 (Rest. Pöstli)
TRANSP:TRANSPARENT
END:VEVENT
BEGIN:VEVENT
DTSTART:20260409T180000Z
DTEND:20260409T190000Z
DTSTAMP:20260331T102257Z
UID:2psc55ms2d857oe26tsa4sp1qt@google.com
CREATED:20260331T100848Z
LAST-MODIFIED:20260331T100853Z
SEQUENCE:1
STATUS:CONFIRMED
SUMMARY:LR Lauf: Kurzstreckenlauf Mosnang (VM)
TRANSP:TRANSPARENT
END:VEVENT
BEGIN:VEVENT
DTSTART:20261112T190000Z
DTEND:20261112T205000Z
DTSTAMP:20260331T102257Z
UID:471ui4gpvvnv262ujg1srfgqfd@google.com
CREATED:20260331T101046Z
LAST-MODIFIED:20260331T101057Z
SEQUENCE:0
STATUS:CONFIRMED
SUMMARY:LR Lauf: Brunnenlauf Dottingen (VM)
TRANSP:OPAQUE
END:VEVENT
BEGIN:VEVENT
DTSTART;VALUE=DATE:20260627
DTEND;VALUE=DATE:20260628
DTSTAMP:20260331T102257Z
UID:5b6kp6evt3qbdhgu9o9n4ok460@google.com
CREATED:20260331T093725Z
LAST-MODIFIED:20260331T093725Z
SEQUENCE:0
STATUS:CONFIRMED
SUMMARY:LR Lauf: Ränn dä Uetilberg (Zürich)
TRANSP:TRANSPARENT
END:VEVENT
BEGIN:VEVENT
DTSTART;VALUE=DATE:20260523
DTEND;VALUE=DATE:20260524
DTSTAMP:20260331T102257Z
UID:2lmqu64vh7633tjqqcpubrp8gu@google.com
CREATED:20260331T093411Z
LAST-MODIFIED:20260331T094537Z
SEQUENCE:0
STATUS:CONFIRMED
SUMMARY:LR Lauf: Kreuzegg Classic
TRANSP:TRANSPARENT
END:VEVENT
BEGIN:VEVENT
DTSTART;VALUE=DATE:20261010
DTEND;VALUE=DATE:20261011
DTSTAMP:20260331T102257Z
UID:7furemp6v9empti1u5k6t3m2f2@google.com
CREATED:20260331T094153Z
LAST-MODIFIED:20260331T094153Z
SEQUENCE:0
STATUS:CONFIRMED
SUMMARY:LR Lauf: Hallwilerseelauf
TRANSP:TRANSPARENT
END:VEVENT
BEGIN:VEVENT
DTSTART;VALUE=DATE:20260823
DTEND;VALUE=DATE:20260824
DTSTAMP:20260331T102257Z
UID:4m378lac3h811n9vt43i26quup@google.com
CREATED:20260331T093912Z
LAST-MODIFIED:20260331T093920Z
SEQUENCE:0
STATUS:CONFIRMED
SUMMARY:LR Lauf: Berglauf Hoher Kasten
TRANSP:TRANSPARENT
END:VEVENT
BEGIN:VEVENT
DTSTART;VALUE=DATE:20260506
DTEND;VALUE=DATE:20260507
DTSTAMP:20260331T102257Z
UID:063incm9ioj66g1kifhgjmhsk5@google.com
CREATED:20260331T093335Z
LAST-MODIFIED:20260331T094530Z
SEQUENCE:0
STATUS:CONFIRMED
SUMMARY:LR Lauf: Bahnlauf 3000m LSC Wil
TRANSP:TRANSPARENT
END:VEVENT
BEGIN:VEVENT
DTSTART;VALUE=DATE:20260613
DTEND;VALUE=DATE:20260615
DTSTAMP:20260331T102257Z
UID:0sdovg3rft1ao8hrp6fd5lruj7@google.com
CREATED:20260331T095049Z
LAST-MODIFIED:20260331T095049Z
SEQUENCE:0
STATUS:CONFIRMED
SUMMARY:LR: Mosnang - Säntis - Mosnang (mit Übernachtung)
TRANSP:TRANSPARENT
END:VEVENT
END:VCALENDAR
